BEGIN:VCALENDAR
VERSION:2.0
METHOD:PUBLISH
BEGIN:VEVENT
UID:WILD_APRICOT_EVENT_907230_SESSION_1
DTSTART:20140924T060000Z
DTEND:20140924T083000Z
SUMMARY:Hunter Training Course
LOCATION:Mainly Hunting
DESCRIPTION:https://hvnzda.org.nz/event-907230\n\nRegister here for the 2014 Hunting & Bushcraft course. NOTE: You must be a current member and be logged in to register. The course is limited to those members over 16yrs of age.\n \n Deposits can be refunded up until 31 days before the start of the course. After this date\, no refunds will be given.\n \n Full course fees must be paid after this date\, and before the course starts.\n \n There is a cost  of $265 to attend which includes a pair of bush shirts ($70 worth at club discount rate) and course literature. All ammo used will need to be either purchased by yourself\, or through the club. You will need to allow approx $170 for ammunition costs.\n\n  Note that travel\, ammunition and food costs are not included in the course fee.\n  Firearms can be provided if required (fees apply).\n
DTSTAMP:20260424T130337Z
END:VEVENT
END:VCALENDAR
