BEGIN:VCALENDAR
VERSION:2.0
METHOD:PUBLISH
BEGIN:VEVENT
UID:WILD_APRICOT_EVENT_712530_SESSION_1
DTSTART:20131107T170000Z
DTEND:20131110T040000Z
SUMMARY:Hunting & Bushcraft Course
LOCATION:TBC
DESCRIPTION:https://hvnzda.org.nz/event-712530\n\nHUNT weekend Backup\n \n
DTSTAMP:20260424T130519Z
END:VEVENT
END:VCALENDAR
