BEGIN:VCALENDAR
VERSION:2.0
METHOD:PUBLISH
BEGIN:VEVENT
UID:WILD_APRICOT_EVENT_712529_SESSION_1
DTSTART:20131031T170000Z
DTEND:20131103T040000Z
SUMMARY:Hunting & Bushcraft Course
LOCATION:TBC
DESCRIPTION:https://hvnzda.org.nz/event-712529\n\nHUNT weekend\n \n
DTSTAMP:20260424T130418Z
END:VEVENT
END:VCALENDAR
