BEGIN:VCALENDAR
VERSION:2.0
METHOD:PUBLISH
BEGIN:VEVENT
UID:WILD_APRICOT_EVENT_712527_SESSION_1
DTSTART:20131018T190000Z
DTEND:20131019T040000Z
SUMMARY:Hunting & Bushcraft Course
LOCATION:Kaitoke Range
DESCRIPTION:https://hvnzda.org.nz/event-712527\n\nRange\n Trip Planning\n \n
DTSTAMP:20260424T143413Z
END:VEVENT
END:VCALENDAR
