BEGIN:VCALENDAR
VERSION:2.0
METHOD:PUBLISH
BEGIN:VEVENT
UID:WILD_APRICOT_EVENT_712525_SESSION_1
DTSTART:20131004T190000Z
DTEND:20131005T040000Z
SUMMARY:Hunting & Bushcraft Course
LOCATION:Kaitoke Range
DESCRIPTION:https://hvnzda.org.nz/event-712525\n\nRange\n \n \n
DTSTAMP:20260424T143149Z
END:VEVENT
END:VCALENDAR
