BEGIN:VCALENDAR
VERSION:2.0
METHOD:PUBLISH
BEGIN:VEVENT
UID:WILD_APRICOT_EVENT_712523_SESSION_1
DTSTART:20131011T070000Z
DTEND:20131013T030000Z
SUMMARY:Hunting & Bushcraft Course
LOCATION:Waikuku Lodge
DESCRIPTION:https://hvnzda.org.nz/event-712523\n\nNavigation\n Species ID & Habitat\n Gear & Equipment\n \n \n
DTSTAMP:20260424T115654Z
END:VEVENT
END:VCALENDAR
