BEGIN:VCALENDAR
VERSION:2.0
METHOD:PUBLISH
BEGIN:VEVENT
UID:WILD_APRICOT_EVENT_712519_SESSION_1
DTSTART:20130927T200000Z
DTEND:20130928T050000Z
SUMMARY:Hunting & Bushcraft Course
LOCATION:Kaitoke Range
DESCRIPTION:https://hvnzda.org.nz/event-712519\n\nRange\n \n \n
DTSTAMP:20260424T115704Z
END:VEVENT
END:VCALENDAR
