BEGIN:VCALENDAR
VERSION:2.0
METHOD:PUBLISH
BEGIN:VEVENT
UID:WILD_APRICOT_EVENT_712517_SESSION_1
DTSTART:20130920T200000Z
DTEND:20130921T050000Z
SUMMARY:Hunting & Bushcraft Course
LOCATION:Kaitoke Range
DESCRIPTION:https://hvnzda.org.nz/event-712517\n\nRange\n \n \n
DTSTAMP:20260424T131147Z
END:VEVENT
END:VCALENDAR
