BEGIN:VCALENDAR
VERSION:2.0
METHOD:PUBLISH
BEGIN:VEVENT
UID:WILD_APRICOT_EVENT_712516_SESSION_1
DTSTART:20130913T200000Z
DTEND:20130914T050000Z
SUMMARY:Hunting & Bushcraft Course
LOCATION:Kaitoke Range
DESCRIPTION:https://hvnzda.org.nz/event-712516\n\nCourse\, Range & Firearms introduction day\n \n
DTSTAMP:20260424T131053Z
END:VEVENT
END:VCALENDAR
