BEGIN:VCALENDAR
VERSION:2.0
METHOD:PUBLISH
BEGIN:VEVENT
UID:WILD_APRICOT_EVENT_3152938_SESSION_1
DTSTART:20181216T023000Z
DTEND:20181216T053000Z
SUMMARY:Private Booking - 1530 - 1830
LOCATION:Kaitoke Range
DESCRIPTION:https://hvnzda.org.nz/event-3152938\n\nPrivate Booking - strictly no cause use!\n
DTSTAMP:20260424T115844Z
END:VEVENT
END:VCALENDAR
