BEGIN:VCALENDAR
VERSION:2.0
METHOD:PUBLISH
BEGIN:VEVENT
UID:WILD_APRICOT_EVENT_3152936_SESSION_1
DTSTART:20181211T193000Z
DTEND:20181212T033000Z
SUMMARY:Private Booking (0830 - 1630)
LOCATION:Kaitoke Range
DESCRIPTION:https://hvnzda.org.nz/event-3152936\n\nPrivate booking - strictly no cause use!\n
DTSTAMP:20260424T143142Z
END:VEVENT
END:VCALENDAR
