BEGIN:VCALENDAR
VERSION:2.0
METHOD:PUBLISH
BEGIN:VEVENT
UID:WILD_APRICOT_EVENT_3122542_SESSION_1
DTSTART:20181109T170000Z
DTEND:20181110T000000Z
SUMMARY:RANGE CLOSED - Rimutaka Rail Trail Run & Walk (0800 - 1300)
LOCATION:Kaitoke
DESCRIPTION:https://hvnzda.org.nz/event-3122542\n\nThe range will be closed due to the Rimutaka Rail Trail Run & Walk.\n  The event will be over by 1PM. PLEASE DO NOT USE THE RANGE during this time (0800 – 1300).\n    \n\n     Full details can be found here: https://www.trenthamunited.com/events/rimutaka 
DTSTAMP:20260424T141952Z
END:VEVENT
END:VCALENDAR
