BEGIN:VCALENDAR
VERSION:2.0
METHOD:PUBLISH
BEGIN:VEVENT
UID:WILD_APRICOT_EVENT_3116206_SESSION_1
DTSTART:20181107T000000Z
DTEND:20181107T050000Z
SUMMARY:Private Booking - No casual use! (1300 - 1800)
LOCATION:Kaitoke Range
DESCRIPTION:https://hvnzda.org.nz/event-3116206\n\nPrivate Booking - No casual use! (1300 - 1800)\n\n
DTSTAMP:20260424T171124Z
END:VEVENT
END:VCALENDAR
