BEGIN:VCALENDAR
VERSION:2.0
METHOD:PUBLISH
BEGIN:VEVENT
UID:WILD_APRICOT_EVENT_3114326_SESSION_1
DTSTART:20181103T233000Z
DTEND:20181104T033000Z
SUMMARY:NZDA Hutt Valley Branch .22 RF Shoot
LOCATION:Kaitoke Range
DESCRIPTION:https://hvnzda.org.nz/event-3114326\n\nNZDA Hutt Valley Branch .22 RF Shoot\n  Match 1\n  Shooting behind a barricade\n  One shooter at a time moving and shooting from various positions\n  5-10 steel targets placed from 25-75m\n  Steel targets are must hit before moving onto the next target.\n  Timed event\, so that a bolt action can compete\, 2 mins?  Extra magazines would be an advantage so borrow or buy one.\n  Match two\n  Speed steel\n  5x 300mm plates at approximately 20m\n  Shooter starts behind a table\, muzzle of rifle on the table\, rifle loaded safety on.\n  On the beep engage the plates in order. This is done 3 separate times\, best two score count.\n  A shot timer is used so HV ammo and no suppressor\, so that it works.\n  This is for semi auto\, pump or lever action rifles only.\n  Match Three\n  17HMR/22 WMR shoot\n  5 small targets 75-125m\n  We get asked if guys can use their 17s or 22Mag so this match for these rifles.\n  Match Four\n  Small precision targets at 20+ meters if time permits.\n  If coming\, please register & pay online ($5.00). Free BBQ during / at the end of the event.\n  We are trying in encourage more shooting events\, so if you have any ideas or wish to help run a shoot next year please let us know.\n\n  John L\n
DTSTAMP:20260424T115741Z
END:VEVENT
END:VCALENDAR
