BEGIN:VCALENDAR
VERSION:2.0
METHOD:PUBLISH
BEGIN:VEVENT
UID:WILD_APRICOT_EVENT_3110771_SESSION_1
DTSTART:20181216T193000Z
DTEND:20181216T233000Z
SUMMARY:Private Booking - No casual use! (0830 - 1230)
LOCATION:Kaitoke Range
DESCRIPTION:https://hvnzda.org.nz/event-3110771\n\nPrivate Booking - No casual use! (0830 - 1230)\n\n
DTSTAMP:20260424T115525Z
END:VEVENT
END:VCALENDAR
