BEGIN:VCALENDAR
VERSION:2.0
METHOD:PUBLISH
BEGIN:VEVENT
UID:WILD_APRICOT_EVENT_3077309_SESSION_1
DTSTART:20181004T233000Z
DTEND:20181005T033000Z
SUMMARY:Private Booking - Strictly no casual use (1230 - 1630)
LOCATION:Kaitoke Range
DESCRIPTION:https://hvnzda.org.nz/event-3077309\n\nPrivate Booking - Strictly no casual use (1230 - 1630)\n\n
DTSTAMP:20260424T115352Z
END:VEVENT
END:VCALENDAR
