BEGIN:VCALENDAR
VERSION:2.0
METHOD:PUBLISH
BEGIN:VEVENT
UID:WILD_APRICOT_EVENT_3077307_SESSION_1
DTSTART:20181001T210000Z
DTEND:20181002T010000Z
SUMMARY:Private Booking - Strictly no casual use (1000 - 1400)
LOCATION:Kaitoke Rage
DESCRIPTION:https://hvnzda.org.nz/event-3077307\n\nPrivate Booking - Strictly no casual use (1000 - 1400)\n\n
DTSTAMP:20260424T171429Z
END:VEVENT
END:VCALENDAR
