BEGIN:VCALENDAR
VERSION:2.0
METHOD:PUBLISH
BEGIN:VEVENT
UID:WILD_APRICOT_EVENT_3077305_SESSION_1
DTSTART:20180926T233000Z
DTEND:20180927T003000Z
SUMMARY:Private Booking - Strictly no casual use (1130 - 1230)
LOCATION:Kaitoke
DESCRIPTION:https://hvnzda.org.nz/event-3077305\n\nPrivate Booking - Strictly no casual use (1130 - 1230)\n\n
DTSTAMP:20260424T141902Z
END:VEVENT
END:VCALENDAR
