BEGIN:VCALENDAR
VERSION:2.0
METHOD:PUBLISH
BEGIN:VEVENT
UID:WILD_APRICOT_EVENT_3058614_SESSION_1
DTSTART:20180927T203000Z
DTEND:20180928T043000Z
SUMMARY:Private booking - No casual use (0830 - 1630)
LOCATION:Kaitoke
DESCRIPTION:https://hvnzda.org.nz/event-3058614\n\nPrivate booking - no casual use (0830 - 1630)\n
DTSTAMP:20260424T115235Z
END:VEVENT
END:VCALENDAR
