BEGIN:VCALENDAR
VERSION:2.0
METHOD:PUBLISH
BEGIN:VEVENT
UID:WILD_APRICOT_EVENT_3051003_SESSION_1
DTSTART:20180911T213000Z
DTEND:20180912T033000Z
SUMMARY:Private Booking - No casual use (0930 - 1530) (session 1 of 5)
LOCATION:Kaitoke Range
DESCRIPTION:https://hvnzda.org.nz/event-3051003\n\nPrivate Booking - No casual use (0930 - 1530)\n\n
DTSTAMP:20260424T130201Z
END:VEVENT
BEGIN:VEVENT
UID:WILD_APRICOT_EVENT_3051003_SESSION_2
DTSTART:20180925T213000Z
DTEND:20180926T033000Z
SUMMARY:Private Booking - No casual use (0930 - 1530) (session 2 of 5)
LOCATION:Kaitoke Range
DESCRIPTION:https://hvnzda.org.nz/event-3051003\n\nPrivate Booking - No casual use (0930 - 1530)\n\n
DTSTAMP:20260424T130201Z
END:VEVENT
BEGIN:VEVENT
UID:WILD_APRICOT_EVENT_3051003_SESSION_3
DTSTART:20181002T203000Z
DTEND:20181003T023000Z
SUMMARY:Private Booking - No casual use (0930 - 1530) (session 3 of 5)
LOCATION:Kaitoke Range
DESCRIPTION:https://hvnzda.org.nz/event-3051003\n\nPrivate Booking - No casual use (0930 - 1530)\n\n
DTSTAMP:20260424T130201Z
END:VEVENT
BEGIN:VEVENT
UID:WILD_APRICOT_EVENT_3051003_SESSION_4
DTSTART:20181009T203000Z
DTEND:20181010T023000Z
SUMMARY:Private Booking - No casual use (0930 - 1530) (session 4 of 5)
LOCATION:Kaitoke Range
DESCRIPTION:https://hvnzda.org.nz/event-3051003\n\nPrivate Booking - No casual use (0930 - 1530)\n\n
DTSTAMP:20260424T130201Z
END:VEVENT
BEGIN:VEVENT
UID:WILD_APRICOT_EVENT_3051003_SESSION_5
DTSTART:20181016T203000Z
DTEND:20181017T023000Z
SUMMARY:Private Booking - No casual use (0930 - 1530) (session 5 of 5)
LOCATION:Kaitoke Range
DESCRIPTION:https://hvnzda.org.nz/event-3051003\n\nPrivate Booking - No casual use (0930 - 1530)\n\n
DTSTAMP:20260424T130201Z
END:VEVENT
END:VCALENDAR
