BEGIN:VCALENDAR
VERSION:2.0
METHOD:PUBLISH
BEGIN:VEVENT
UID:WILD_APRICOT_EVENT_3040388_SESSION_1
DTSTART:20180821T211500Z
DTEND:20180822T001500Z
SUMMARY:Private Booking - No casual use (0915 - 1215)
LOCATION:Kaitoke Range
DESCRIPTION:https://hvnzda.org.nz/event-3040388\n\nPrivate Booking - No casual use (0915 - 1215)\n\n
DTSTAMP:20260424T143317Z
END:VEVENT
END:VCALENDAR
