BEGIN:VCALENDAR
VERSION:2.0
METHOD:PUBLISH
BEGIN:VEVENT
UID:WILD_APRICOT_EVENT_3013106_SESSION_1
DTSTART:20180921T003000Z
DTEND:20180921T053000Z
SUMMARY:Private Booking - No casual use (1230 - 1730)
LOCATION:Kaitoke
DESCRIPTION:https://hvnzda.org.nz/event-3013106\n\nPrivate Booking - No casual use (1230 - 1730)\n\n
DTSTAMP:20260424T171246Z
END:VEVENT
END:VCALENDAR
