BEGIN:VCALENDAR
VERSION:2.0
METHOD:PUBLISH
BEGIN:VEVENT
UID:WILD_APRICOT_EVENT_3008678_SESSION_1
DTSTART:20180928T210000Z
DTEND:20180929T050000Z
SUMMARY:HTC - First Aid
LOCATION:Cossie Club - Upper Hutt
DESCRIPTION:https://hvnzda.org.nz/event-3008678\n\nHTC - First Aid\n\n
DTSTAMP:20260424T131526Z
END:VEVENT
END:VCALENDAR
