BEGIN:VCALENDAR
VERSION:2.0
METHOD:PUBLISH
BEGIN:VEVENT
UID:WILD_APRICOT_EVENT_3008652_SESSION_1
DTSTART:20180822T003000Z
DTEND:20180822T050000Z
SUMMARY:Private Booking - No casual use (1230 - 1700)
LOCATION:Kaitoke
DESCRIPTION:https://hvnzda.org.nz/event-3008652\n\nPrivate Booking - No casual use (1230 - 1700)\n\n
DTSTAMP:20260424T115634Z
END:VEVENT
END:VCALENDAR
