BEGIN:VCALENDAR
VERSION:2.0
METHOD:PUBLISH
BEGIN:VEVENT
UID:WILD_APRICOT_EVENT_2994764_SESSION_1
DTSTART:20180819T003000Z
DTEND:20180819T043000Z
SUMMARY:22 rimfire practical shoot
LOCATION:Kaitoke
DESCRIPTION:https://hvnzda.org.nz/event-2994764\n\n.22 rimfire practical shoot\, targets are from 25 – 200 metres.\n  Backup afternoon will be August 26th if wet.\n  Range fee $5 which includes BBQ and practical training.\n   \n  \n\n  \n\n
DTSTAMP:20260424T115817Z
END:VEVENT
END:VCALENDAR
