BEGIN:VCALENDAR
VERSION:2.0
METHOD:PUBLISH
BEGIN:VEVENT
UID:WILD_APRICOT_EVENT_2973470_SESSION_1
DTSTART:20180710T213000Z
DTEND:20180711T033000Z
SUMMARY:Private Booking - No casual use (0930 - 1530)
LOCATION:Kaitoke Range
DESCRIPTION:https://hvnzda.org.nz/event-2973470\n\nPrivate Booking - No casual use (0930 - 1530)\n\n
DTSTAMP:20260424T131500Z
END:VEVENT
END:VCALENDAR
