BEGIN:VCALENDAR
VERSION:2.0
METHOD:PUBLISH
BEGIN:VEVENT
UID:WILD_APRICOT_EVENT_2972364_SESSION_1
DTSTART:20180626T213000Z
DTEND:20180627T033000Z
SUMMARY:Private Booking - No casual use (0930 - 1530)
LOCATION:Kaitoke Range
DESCRIPTION:https://hvnzda.org.nz/event-2972364\n\nPrivate Booking - No casual use (0930 - 1530)\n\n
DTSTAMP:20260424T115504Z
END:VEVENT
END:VCALENDAR
