BEGIN:VCALENDAR
VERSION:2.0
METHOD:PUBLISH
BEGIN:VEVENT
UID:WILD_APRICOT_EVENT_2971652_SESSION_1
DTSTART:20180806T210000Z
DTEND:20180807T020000Z
SUMMARY:Private Booking - No Casual Use (0900 - 1400)
LOCATION:
DESCRIPTION:https://hvnzda.org.nz/event-2971652\n\nPrivate Booking - No Casual Use (0900 - 1400)\n\n
DTSTAMP:20260424T115801Z
END:VEVENT
END:VCALENDAR
