BEGIN:VCALENDAR
VERSION:2.0
METHOD:PUBLISH
BEGIN:VEVENT
UID:WILD_APRICOT_EVENT_2966222_SESSION_1
DTSTART:20180628T203000Z
DTEND:20180629T003000Z
SUMMARY:Private Booking - No casual use (0830 - 1230)
LOCATION:Kaitoke
DESCRIPTION:https://hvnzda.org.nz/event-2966222\n\nPrivate Booking - No casual use (0830 - 1230)\n\n
DTSTAMP:20260424T143353Z
END:VEVENT
END:VCALENDAR
