BEGIN:VCALENDAR
VERSION:2.0
METHOD:PUBLISH
BEGIN:VEVENT
UID:WILD_APRICOT_EVENT_2938989_SESSION_1
DTSTART:20180713T203000Z
DTEND:20180714T003000Z
SUMMARY:NZDA Porirua Branch (0830 - 1230) (session 1 of 2)
LOCATION:Kaitoke
DESCRIPTION:https://hvnzda.org.nz/event-2938989\n\nPrivate booking for the Porirua (NZDA) Branch\n
DTSTAMP:20260424T115606Z
END:VEVENT
BEGIN:VEVENT
UID:WILD_APRICOT_EVENT_2938989_SESSION_2
DTSTART:20181102T193000Z
DTEND:20181102T233000Z
SUMMARY:NZDA Porirua Branch (0830 - 1230) (session 2 of 2)
LOCATION:Kaitoke
DESCRIPTION:https://hvnzda.org.nz/event-2938989\n\nPrivate booking for the Porirua (NZDA) Branch\n
DTSTAMP:20260424T115606Z
END:VEVENT
END:VCALENDAR
