BEGIN:VCALENDAR
VERSION:2.0
METHOD:PUBLISH
BEGIN:VEVENT
UID:WILD_APRICOT_EVENT_2934504_SESSION_1
DTSTART:20180523T030000Z
DTEND:20180523T060000Z
SUMMARY:Private Booking (3PM- 6PM). NO CASUAL USE!
LOCATION:Kaitoke
DESCRIPTION:https://hvnzda.org.nz/event-2934504\n\nPrivate Booking (3PM- 6PM). NO CASUAL USE!\n\n
DTSTAMP:20260424T115546Z
END:VEVENT
END:VCALENDAR
