BEGIN:VCALENDAR
VERSION:2.0
METHOD:PUBLISH
BEGIN:VEVENT
UID:WILD_APRICOT_EVENT_2890588_SESSION_1
DTSTART:20180417T213000Z
DTEND:20180418T033000Z
SUMMARY:Private Booking - No casual use (0930 - 1530)
LOCATION:
DESCRIPTION:https://hvnzda.org.nz/event-2890588\n\nPrivate Booking - No casual use (0930 - 1530)\n\n  \n\n  \n\n  \n\n  \n\n  GNx1\n
DTSTAMP:20260424T115934Z
END:VEVENT
END:VCALENDAR
