BEGIN:VCALENDAR
VERSION:2.0
METHOD:PUBLISH
BEGIN:VEVENT
UID:WILD_APRICOT_EVENT_2874367_SESSION_1
DTSTART:20180402T010000Z
DTEND:20180402T050000Z
SUMMARY:Private Booking - No casual use (1300 - 1700)
LOCATION:Kaitoke
DESCRIPTION:https://hvnzda.org.nz/event-2874367\n\nPrivate Booking - No casual\; use (1300 - 1700)\n\n
DTSTAMP:20260424T130030Z
END:VEVENT
END:VCALENDAR
