BEGIN:VCALENDAR
VERSION:2.0
METHOD:PUBLISH
BEGIN:VEVENT
UID:WILD_APRICOT_EVENT_2850555_SESSION_1
DTSTART:20180320T203000Z
DTEND:20180321T023000Z
SUMMARY:Private Booking - No casual use (0930 - 1530)
LOCATION:
DESCRIPTION:https://hvnzda.org.nz/event-2850555\n\nPrivate Booking - No casual use (0930 - 1530)\n\n  \n\n  \n\n  \n\n  \n\n  GNx1\n
DTSTAMP:20260424T144147Z
END:VEVENT
END:VCALENDAR
