BEGIN:VCALENDAR
VERSION:2.0
METHOD:PUBLISH
BEGIN:VEVENT
UID:WILD_APRICOT_EVENT_2848329_SESSION_1
DTSTART:20180303T233000Z
DTEND:20180304T033000Z
SUMMARY:NZDA Hutt Valley Branch - RF/CF Roar
LOCATION:Kaitoke
DESCRIPTION:https://hvnzda.org.nz/event-2848329\n\n¥  N. Z. D. A.  Hutt Valley – Rifle Shoot\n  4 March 2018\n  .22 Rimfire Rifle\, Centrefire Rifle\n  .22 Rimfire Rifle – Positional @50/25m\n  N.Z.D.A. 50m red\, double bull’s-eye targets. Forty (40) counting shots.\n  Centrefire Rifle – Positional @75/50m – Roar Shoot\n  N.Z.D.A. 200m red\, bull’s-eye targets. Fifteen (15) counting shots. No deer silhouettes but they are in the schedule for next year.\n  See the Course of Fire\, on the Website Range Page for full details.\n  See you on the day. Headlights on for the gravel road and keep your speed down.\n  Michael Guerin\n  Shooting Competition Coordinator\n  \n\n
DTSTAMP:20260424T142146Z
END:VEVENT
END:VCALENDAR
