BEGIN:VCALENDAR
VERSION:2.0
METHOD:PUBLISH
BEGIN:VEVENT
UID:WILD_APRICOT_EVENT_2833222_SESSION_1
DTSTART:20180226T220000Z
DTEND:20180227T010000Z
SUMMARY:Private booking - no casual use (1100 - 1400).
LOCATION:Kaitoke
DESCRIPTION:https://hvnzda.org.nz/event-2833222\n\nPrivate booking - no casual use (1100 - 1400).\n\n
DTSTAMP:20260424T131021Z
END:VEVENT
END:VCALENDAR
