BEGIN:VCALENDAR
VERSION:2.0
METHOD:PUBLISH
BEGIN:VEVENT
UID:WILD_APRICOT_EVENT_2813977_SESSION_1
DTSTART:20180207T190000Z
DTEND:20180209T040000Z
SUMMARY:Range maintenance - Please read description
LOCATION:Kaitoke Range
DESCRIPTION:https://hvnzda.org.nz/event-2813977\n\nWe will have a digger doing some work on the range and in the carpark\, during this time the range will be CLOSED.\n  Although\, we are not officially 'closing' the range during this time\, please be prepared to cease fire and vacate the range when they need to do work froward of the red line.\n  \n\n  Thanks for your cooperation and patience.\n  \n\n  NZDA Hutt Valley Branch INC. Committee\n  \n\n  \n\n
DTSTAMP:20260424T142603Z
END:VEVENT
END:VCALENDAR
