BEGIN:VCALENDAR
VERSION:2.0
METHOD:PUBLISH
BEGIN:VEVENT
UID:WILD_APRICOT_EVENT_2770322_SESSION_1
DTSTART:20171228T213000Z
DTEND:20171228T233000Z
SUMMARY:Private Booking - No casual use (1030 - 1230)
LOCATION:Kaitoke
DESCRIPTION:https://hvnzda.org.nz/event-2770322\n\nPrivate Booking - No casual use\n\n
DTSTAMP:20260424T143024Z
END:VEVENT
END:VCALENDAR
