BEGIN:VCALENDAR
VERSION:2.0
METHOD:PUBLISH
BEGIN:VEVENT
UID:WILD_APRICOT_EVENT_2770069_SESSION_1
DTSTART:20180104T193000Z
DTEND:20180104T233000Z
SUMMARY:Private booking - no casual use (0830 - 1230).
LOCATION:Kaitoke
DESCRIPTION:https://hvnzda.org.nz/event-2770069\n\nPrivate booking - no casual use (0830 - 1230).\n\n
DTSTAMP:20260424T142324Z
END:VEVENT
END:VCALENDAR
