BEGIN:VCALENDAR
VERSION:2.0
METHOD:PUBLISH
BEGIN:VEVENT
UID:WILD_APRICOT_EVENT_2769304_SESSION_1
DTSTART:20171226T210000Z
DTEND:20171226T230000Z
SUMMARY:Private Booking - No casual use (1000 - 1200)
LOCATION:Kaitoke
DESCRIPTION:https://hvnzda.org.nz/event-2769304\n\nPrivate Booking - No casual use\n\n
DTSTAMP:20260424T131328Z
END:VEVENT
END:VCALENDAR
