BEGIN:VCALENDAR
VERSION:2.0
METHOD:PUBLISH
BEGIN:VEVENT
UID:WILD_APRICOT_EVENT_2761844_SESSION_1
DTSTART:20171214T190000Z
DTEND:20171215T000000Z
SUMMARY:Range will be open but undergoing maintenance (Please see description).
LOCATION:Kaitoke
DESCRIPTION:https://hvnzda.org.nz/event-2761844\n\nRange will be open\, but the team may require you to stop shooting whilst mowing lawns\, cleaning rubbish\, etc.\n  \n\n  \n\n
DTSTAMP:20260424T131221Z
END:VEVENT
END:VCALENDAR
