BEGIN:VCALENDAR
VERSION:2.0
METHOD:PUBLISH
BEGIN:VEVENT
UID:WILD_APRICOT_EVENT_2757793_SESSION_1
DTSTART:20180109T193000Z
DTEND:20180110T033000Z
SUMMARY:All day private booking - no casual use
LOCATION:Kaitoke
DESCRIPTION:https://hvnzda.org.nz/event-2757793\n\nAll day private booking - no casual use\n\n
DTSTAMP:20260424T115516Z
END:VEVENT
END:VCALENDAR
