BEGIN:VCALENDAR
VERSION:2.0
METHOD:PUBLISH
BEGIN:VEVENT
UID:WILD_APRICOT_EVENT_2756438_SESSION_1
DTSTART:20171220T233000Z
DTEND:20171221T033000Z
SUMMARY:Private booking - no casual use
LOCATION:
DESCRIPTION:https://hvnzda.org.nz/event-2756438\n\nPrivate booking - no casual use (1230 - 1630).\n
DTSTAMP:20260424T115624Z
END:VEVENT
END:VCALENDAR
