BEGIN:VCALENDAR
VERSION:2.0
METHOD:PUBLISH
BEGIN:VEVENT
UID:WILD_APRICOT_EVENT_2742228_SESSION_1
DTSTART:20171130T193000Z
DTEND:20171130T233000Z
SUMMARY:Private Booking - No casual use
LOCATION:Kaitoke Range
DESCRIPTION:https://hvnzda.org.nz/event-2742228\n\nPrivate Booking - No casual use\n\n  \n\n  \n\n  \n\n
DTSTAMP:20260424T131718Z
END:VEVENT
END:VCALENDAR
