BEGIN:VCALENDAR
VERSION:2.0
METHOD:PUBLISH
BEGIN:VEVENT
UID:WILD_APRICOT_EVENT_2730468_SESSION_1
DTSTART:20171128T203000Z
DTEND:20171129T020000Z
SUMMARY:Private Booking - No casual use (0930  - 1500). (session 1 of 2)
LOCATION:Kaitoke
DESCRIPTION:https://hvnzda.org.nz/event-2730468\n\nPrivate Booking - No casual use (0930  - 1500)\n\n  \n\n  \n\n  *** GN x 3 ***\n  \n\n
DTSTAMP:20260424T142252Z
END:VEVENT
BEGIN:VEVENT
UID:WILD_APRICOT_EVENT_2730468_SESSION_2
DTSTART:20171212T203000Z
DTEND:20171213T020000Z
SUMMARY:Private Booking - No casual use (0930  - 1500). (session 2 of 2)
LOCATION:Kaitoke
DESCRIPTION:https://hvnzda.org.nz/event-2730468\n\nPrivate Booking - No casual use (0930  - 1500)\n\n  \n\n  \n\n  *** GN x 3 ***\n  \n\n
DTSTAMP:20260424T142252Z
END:VEVENT
END:VCALENDAR
