BEGIN:VCALENDAR
VERSION:2.0
METHOD:PUBLISH
BEGIN:VEVENT
UID:WILD_APRICOT_EVENT_2730465_SESSION_1
DTSTART:20171121T193000Z
DTEND:20171121T233000Z
SUMMARY:Private Booking - No casual use
LOCATION:Kaitoke
DESCRIPTION:https://hvnzda.org.nz/event-2730465\n\nPrivate Booking - No casual use\n\n  \n\n  \n\n  *** WC / MI ***\n
DTSTAMP:20260424T130539Z
END:VEVENT
END:VCALENDAR
