BEGIN:VCALENDAR
VERSION:2.0
METHOD:PUBLISH
BEGIN:VEVENT
UID:WILD_APRICOT_EVENT_2712364_SESSION_1
DTSTART:20180317T233000Z
DTEND:20180318T033000Z
SUMMARY:Antique Arms Association (AAA) - Sole Use - PM
LOCATION:
DESCRIPTION:https://hvnzda.org.nz/event-2712364\n\nExclusive use of the range by the Antique Arms Association (AAA)\n
DTSTAMP:20260424T141708Z
END:VEVENT
END:VCALENDAR
