BEGIN:VCALENDAR
VERSION:2.0
METHOD:PUBLISH
BEGIN:VEVENT
UID:WILD_APRICOT_EVENT_2712348_SESSION_1
DTSTART:20180914T200000Z
DTEND:20180915T040000Z
SUMMARY:HTC range session- Range not available for casual use (session 1 of 6)
LOCATION:Kaitoke
DESCRIPTION:https://hvnzda.org.nz/event-2712348\n\nHTC range session - Range not available for casual use\n\n
DTSTAMP:20260424T131446Z
END:VEVENT
BEGIN:VEVENT
UID:WILD_APRICOT_EVENT_2712348_SESSION_2
DTSTART:20180921T200000Z
DTEND:20180922T040000Z
SUMMARY:HTC range session- Range not available for casual use (session 2 of 6)
LOCATION:Kaitoke
DESCRIPTION:https://hvnzda.org.nz/event-2712348\n\nHTC range session - Range not available for casual use\n\n
DTSTAMP:20260424T131446Z
END:VEVENT
BEGIN:VEVENT
UID:WILD_APRICOT_EVENT_2712348_SESSION_3
DTSTART:20181005T190000Z
DTEND:20181006T030000Z
SUMMARY:HTC range session- Range not available for casual use (session 3 of 6)
LOCATION:Kaitoke
DESCRIPTION:https://hvnzda.org.nz/event-2712348\n\nHTC range session - Range not available for casual use\n\n
DTSTAMP:20260424T131446Z
END:VEVENT
BEGIN:VEVENT
UID:WILD_APRICOT_EVENT_2712348_SESSION_4
DTSTART:20181016T040000Z
DTEND:20181016T070000Z
SUMMARY:HTC range session- Range not available for casual use (session 4 of 6)
LOCATION:Kaitoke
DESCRIPTION:https://hvnzda.org.nz/event-2712348\n\nHTC range session - Range not available for casual use\n\n
DTSTAMP:20260424T131446Z
END:VEVENT
BEGIN:VEVENT
UID:WILD_APRICOT_EVENT_2712348_SESSION_5
DTSTART:20181023T040000Z
DTEND:20181023T070000Z
SUMMARY:HTC range session- Range not available for casual use (session 5 of 6)
LOCATION:Kaitoke
DESCRIPTION:https://hvnzda.org.nz/event-2712348\n\nHTC range session - Range not available for casual use\n\n
DTSTAMP:20260424T131446Z
END:VEVENT
BEGIN:VEVENT
UID:WILD_APRICOT_EVENT_2712348_SESSION_6
DTSTART:20181026T190000Z
DTEND:20181027T030000Z
SUMMARY:HTC range session- Range not available for casual use (session 6 of 6)
LOCATION:Kaitoke
DESCRIPTION:https://hvnzda.org.nz/event-2712348\n\nHTC range session - Range not available for casual use\n\n
DTSTAMP:20260424T131446Z
END:VEVENT
END:VCALENDAR
