BEGIN:VCALENDAR
VERSION:2.0
METHOD:PUBLISH
BEGIN:VEVENT
UID:WILD_APRICOT_EVENT_2695087_SESSION_1
DTSTART:20171019T203000Z
DTEND:20171019T233000Z
SUMMARY:Private booking - no casual use (0930 - 1230).
LOCATION:Kaitoke
DESCRIPTION:https://hvnzda.org.nz/event-2695087\n\nPrivate booking - no casual use\n\n  \n\n  \n\n  \n\n  ***GN***\n
DTSTAMP:20260424T115827Z
END:VEVENT
END:VCALENDAR
