BEGIN:VCALENDAR
VERSION:2.0
METHOD:PUBLISH
BEGIN:VEVENT
UID:WILD_APRICOT_EVENT_2691966_SESSION_1
DTSTART:20171110T170000Z
DTEND:20171111T000000Z
SUMMARY:Rimutaka Railway Fun Run and Walk - Road / Range Closed
LOCATION:Kaitoke Range
DESCRIPTION:https://hvnzda.org.nz/event-2691966\n\nRimutaka Railway Fun Run and Walk\n  \n\n  We have been notified of the following event on November 11th\, 2017. They are expecting 1\,000 walkers / runners. The road will be closed during this time (6AM - 1PM). The public car park will also be full with the competitors. Please don't use the range until after 1PM.\n  \n\n  \n\n  \n\n
DTSTAMP:20260424T141645Z
END:VEVENT
END:VCALENDAR
